Workbook
Name buyer: '[1]1)Project Summary '!$G$10
Name city: '[2]1)Project Summary '!$F$7
Name closeout: '[2]PCR Cover'!$B$3
Name Constr: '[2]1)Project Summary '!$J$17
Name County: '1)Project Info'!$G$11
Name developer: '[2]1)Project Summary '!$H$5
Name DevFee: '[2]2)TDC'!$E$91
Name EFixed: [3]Rates!$D$25
Name EHeat.AP0: [3]Heat_AC_Apartment!$F$5
Name EHeat.AP1: [3]Heat_AC_Apartment!$F$25
Name EHeat.AP2: [3]Heat_AC_Apartment!$F$45
Name EHeat.AP3: [3]Heat_AC_Apartment!$F$65
Name EHeat.AP4: [3]Heat_AC_Apartment!$F$85
Name EHeat.AP5: [3]Heat_AC_Apartment!$F$105
Name EHeat.DP0: [3]Heat_AC_Duplex!$F$5
Name EHeat.DP1: [3]Heat_AC_Duplex!$F$25
Name EHeat.DP2: [3]Heat_AC_Duplex!$F$45
Name EHeat.DP3: [3]Heat_AC_Duplex!$F$65
Name EHeat.DP4: [3]Heat_AC_Duplex!$F$85
Name EHeat.DP5: [3]Heat_AC_Duplex!$F$105
Name EHeat.SF0: [3]Heat_AC_Single_Family!$F$5
Name EHeat.SF1: [3]Heat_AC_Single_Family!$F$25
Name EHeat.SF2: [3]Heat_AC_Single_Family!$F$45
Name EHeat.SF3: [3]Heat_AC_Single_Family!$F$65
Name EHeat.SF4: [3]Heat_AC_Single_Family!$F$85
Name EHeat.SF5: [3]Heat_AC_Single_Family!$F$105
Name EHeat.Tier1: [3]Rates!$D$20
Name ETax: [3]Rates!$D$27
Name file: '[2]a)Compliance & Underwriting'!$B$1
Name GHeat.AP0: [3]Heat_AC_Apartment!$E$5
Name GHeat.AP1: [3]Heat_AC_Apartment!$E$25
Name GHeat.AP2: [3]Heat_AC_Apartment!$E$45
Name GHeat.AP3: [3]Heat_AC_Apartment!$E$65
Name GHeat.AP4: [3]Heat_AC_Apartment!$E$85
Name GHeat.AP5: [3]Heat_AC_Apartment!$E$105
Name GHeat.DP0: [3]Heat_AC_Duplex!$E$5
Name GHeat.DP1: [3]Heat_AC_Duplex!$E$25
Name GHeat.DP2: [3]Heat_AC_Duplex!$E$45
Name GHeat.DP3: [3]Heat_AC_Duplex!$E$65
Name GHeat.DP4: [3]Heat_AC_Duplex!$E$85
Name GHeat.DP5: [3]Heat_AC_Duplex!$E$105
Name GHeat.Purch: [3]Rates!$D$5
Name GHeat.SF0: [3]Heat_AC_Single_Family!$E$5
Name GHeat.SF1: [3]Heat_AC_Single_Family!$E$25
Name GHeat.SF2: [3]Heat_AC_Single_Family!$E$45
Name GHeat.SF3: [3]Heat_AC_Single_Family!$E$65
Name GHeat.SF4: [3]Heat_AC_Single_Family!$E$85
Name GHeat.SF5: [3]Heat_AC_Single_Family!$E$105
Name GHeat.Tier1: [3]Rates!$D$7
Name GHeat.Tier2: [3]Rates!$D$8
Name GTax: [3]Rates!$D$14
Name HardCosts: '[2]2)TDC'!$F$68
Name HHsize: '[2]1)Project Summary '!$G$11
Name HomePrice: '[2]2)TDC'!$F$16
Name IDISNum: '[2]KHC Internal'!$C$9
Name OHeat.AP0: [3]Heat_AC_Apartment!$G$5
Name OHeat.AP1: [3]Heat_AC_Apartment!$G$25
Name OHeat.AP2: [3]Heat_AC_Apartment!$G$45
Name OHeat.AP3: [3]Heat_AC_Apartment!$G$65
Name OHeat.AP4: [3]Heat_AC_Apartment!$G$85

Sheet Instructions
B2: TC-HC Form
B3: KY Heritage Council Tax Credit - Housing Corporation Application:
B4: Certification of Commercial-Residential Property Requirements
B5: INSTRUCTIONS
B7: General Instructions
B8: A. You will submit this workbook in Excel and PDF formats to the KY Heritage Council with your application.
B9: B. Resubmit this at every stage (Part 1, Part 2 & Part 3).
B10: C. You will only be able to enter info into YELLOW CELLS. All others are locked.
B11: D. Complete the following tabs/worksheets:
B12: 1) Project Info
B13: 2) SF Calculation
B14: 3) Utility Allowance
... B36: https://www.hudexchange.info/programs/home/home-income-limits/

Sheet 1)Project Info
B1: TC-HC Form:
B2: APPLICATION/PROJECT INFORMATION & COMPLIANCE CHECKS
B6: Certification Stage: | F6: Date Completed/Updated:
F7: Completed By:
B8: Historic Property
B9: Historic Property Name (leave blank if unknown):
B10: Street Address: | H10: Zip:
B11: City: | F11: County: | I11: State: | J11: KY
B12: Applicant/Point of Contact
B13: Applicant/Owner:
B14: Organization:
B15: Primary Contact Regarding Application:
B16: Phone: | E16: Email:
B18: Affordable Housing Square Footage Calculation
B19: (Numbers auto-populate from the 3) SF Calculation Tab)
B20: Area | E20: Total Square Footage | H20: SF counted toward 50% requirement
B22: Affordable Apartments | E22: ='2)SF Calculation'!E8 -> 0 | G22: =E22/$E$27 -> #DIV/0! | H22: ='2)SF Calculation'!H8 -> 0 | J22: ='2)SF Calculation'!I8 -> #DIV/0!
B23: Market Rate Apartments | E23: 0 | G23: =E23/$E$27 -> #DIV/0! | H23: ='2)SF Calculation'!H9 -> NA | J23: ='2)SF Calculation'!I9 -> 0
B24: Amenities/Common Areas* | E24: ='2)SF Calculation'!E10 -> 0 | G24: =E24/$E$27 -> #DIV/0! | H24: ='2)SF Calculation'!H10 -> #DIV/0! | J24: ='2)SF Calculation'!I10 -> #DIV/0!
B25: Commercial/Other | E25: ='2)SF Calculation'!E11 -> 0 | G25: =E25/$E$27 -> #DIV/0! | H25: ='2)SF Calculation'!H11 -> NA | J25: ='2)SF Calculation'!I11 -> 0
B26: Residential & Commercial Shared | E26: ='2)SF Calculation'!E12 -> 0 | G26: =E26/$E$27 -> #DIV/0! | H26: ='2)SF Calculation'!H12 -> #DIV/0! | J26: ='2)SF Calculation'!I12 -> #DIV/0!
B27: Total | E27: =SUM(E22:F26) -> 0 | G27: =E27/$E$27 -> #DIV/0! | H27: ='2)SF Calculation'!H13 -> #DIV/0! | J27: ='2)SF Calculation'!I13 -> #DIV/0!
B29: Affordable Apartments + Amenities/Common Areas + Pro Rata Share of Shared SF | F29: = | G29: ='2)SF Calculation'!H15 -> #DIV/0!
G31: =IF(G29>=0.5,"Meets 50% Requirement","50% Requirement NOT Met") -> #DIV/0!
B32: Affordable Incomes & Rents
B33: Maximum Allowed Annual Tenant Household INCOME
B34: =County -> 0 | D34: 1 person | E34: 2 persons | F34: 3 persons | G34: 4 persons | H34: 5 persons | I34: 6 persons
B35: Max Household Income | D35: {=_xlfn.XLOOKUP($B$34,'Income Limits'!B5:$B$124,'Income Limits'!D5:D124)} -> #N/A | E35: =_xlfn.XLOOKUP(B34,'Income Limits'!B5:B124,'Income Limits'!E5:E124) -> #N/A | F35: =_xlfn.XLOOKUP(B34,'Income Limits'!B5:B124,'Income Limits'!F5:F124) -> #N/A | G35: =_xlfn.XLOOKUP(B34,'Income Limits'!B5:B124,'Income Limits'!G5:G124) -> #N/A | H35: =_xlfn.XLOOKUP(B34,'Income Limits'!B5:B124,'Income Limits'!H5:H124) -> #N/A | I35: =_xlfn.XLOOKUP(B34,'Income Limits'!B5:B124,'Income Limits'!I5:I124) -> #N/A
B37: Maximum Allowed Monthly RENT
B38: =County -> 0 | D38: 0 bedroom | E38: 1 bedroom | F38: 2 bedroom | G38: 3 bedroom | H38: 4 bedroom | I38: 5 bedroom
B39: Max Rent + Utilities (from Rent Limits Tab) | D39: =_xlfn.XLOOKUP($B$38,'Rent Limits'!$B$5:$B$124,'Rent Limits'!C5:C124) -> #N/A | E39: =_xlfn.XLOOKUP($B$38,'Rent Limits'!$B$5:$B$124,'Rent Limits'!D5:D124) -> #N/A | F39: =_xlfn.XLOOKUP($B$38,'Rent Limits'!$B$5:$B$124,'Rent Limits'!E5:E124) -> #N/A | G39: =_xlfn.XLOOKUP($B$38,'Rent Limits'!$B$5:$B$124,'Rent Limits'!F5:F124) -> #N/A | H39: =_xlfn.XLOOKUP($B$38,'Rent Limits'!$B$5:$B$124,'Rent Limits'!G5:G124) -> #N/A | I39: =_xlfn.XLOOKUP($B$38,'Rent Limits'!$B$5:$B$124,'Rent Limits'!H5:H124) -> #N/A
B40: Utility Allowance (from Utility Allowance Tab) | D40: ='3)Utility Allowance'!F15 -> 0 | E40: ='3)Utility Allowance'!G15 -> 0 | F40: ='3)Utility Allowance'!H15 -> 0 | G40: ='3)Utility Allowance'!I15 -> 0 | H40: ='3)Utility Allowance'!J15 -> 0 | I40: ='3)Utility Allowance'!K15 -> 0
B41: Max Contract Rent (max rent tenant can pay) | D41: =D39-D40 -> #N/A | E41: =E39-E40 -> #N/A | F41: =F39-F40 -> #N/A | G41: =G39-G40 -> #N/A | H41: =H39-H40 -> #N/A | I41: =I39-I40 -> #N/A
B43: Estimated Rent Project will Charge for Affordable Units
D44: =IF(D41>=D43,"within limit","OVER max") -> #N/A | E44: =IF(E41>=E43,"within limit","OVER max") -> #N/A | F44: =IF(F41>=F43,"within limit","OVER max") -> #N/A | G44: =IF(G41>=G43,"within limit","OVER max") -> #N/A | H44: =IF(H41>=H43,"within limit","OVER max") -> #N/A | I44: =IF(I41>=I43,"within limit","OVER max") -> #N/A
B46: APPLICANT CERTIFICATION
B47: I, the undersigned, understand and certify the following: -This project must meet the 50%+ square footage requirement along with applicable income and rent limits, as listed above. -New rent and income limits are published annually, as are new utility allowances, meaning the applicable limits will change over time. -If any of the above changes during the Kentucky Heritage Council's 3-part application process, an updated version of associated Excel workbook will be submitted.
B49: Signature | E49: Printed Name | H49: Date
B51: For KHC Use Only:
B52: KY HOUSING CORPORATION CERTIFICATION
...

Sheet 2)SF Calculation
B2: ='1)Project Info'!B1 -> TC-HC Form:
B3: SQUARE FOOTAGE CALCULATION
C4: Property Name: | D4: ='1)Project Info'!F9 -> 0 | H4: =County -> 0
C5: Street Address: | D5: ='1)Project Info'!D10 -> 0 | H5: ='1)Project Info'!C11 -> 0
C7: Area Type | E7: Square Footage | F7: % of Total | H7: Counts toward 50% requirement? | K7: Formulas in Column H
C8: Affordable Apartments | F8: =E8/$E$13 -> #DIV/0! | H8: =E8 -> 0 | I8: =H8/$E$13 -> #DIV/0! | K8: = E8
C9: Market Rate Apartments | F9: =E9/$E$13 -> #DIV/0! | H9: NA | I9: 0 | K9: NA - does not count toward 50% requirement
C10: Amenities/Common Areas | F10: =E10/$E$13 -> #DIV/0! | H10: =(F8)*E10 -> #DIV/0! | I10: =H10/$E$13 -> #DIV/0! | K10: =(F8)*E10
C11: Commercial/Other | F11: =E11/$E$13 -> #DIV/0! | H11: NA | I11: 0 | K11: NA - does not count toward 50% requirement
C12: Residential & Commercial Shared | F12: =E12/$E$13 -> #DIV/0! | H12: =(F8)*E12 -> #DIV/0! | I12: =H12/$E$13 -> #DIV/0! | K12: =(F8)*E12
C13: Total SF | E13: =SUM(E8:E12) -> 0 | F13: =SUM(F8:F12) -> #DIV/0! | H13: =SUM(H8:H12) -> #DIV/0! | I13: =H13/E13 -> #DIV/0! | K13: =SUM(H8:H12)
C15: Affordable Apartments + Pro Rata Share of Amenities/Common Areas + Pro Rata Share of Shared SF | F15: = | H15: =H13/E13 -> #DIV/0!
B19: DEFINITIONS FOR SQUARE FOOTAGE CALCULATION
B21: How Overall SF is Measured
B22: All square footage (SF) calculations shall be taken from outside wall to outside wall unless it is a shared wall between Residential Space and Commercial Space; those measurements shall be to the center of the shared wall. Parking areas, including covered parking garages, should not be included in the square footage calculation.
B24: Affordable Apartments Square Footage | J24: Counts toward 50% requirement.
B25: SF of residential units that are income- and rent-restricted: units charging rents within allowable limits and designated for households earning 80% of Area Median Income (AMI) or less.
B27: Market Rate Apartments Square Footage | J27: Does NOT count toward 50% requirement.
B28: SF of residential units that are neither income- nor rent-restricted.
B30: Amenities/Common Areas Square Footage | J30: Pro rata share counts toward 50% requirement.
C31: SF dedicated to the following residential uses:
C32: Apartment units | E32: Residential amenity spaces such as:
C33: Residential hallways | E33: Resident lounges
C34: Elevator lobbies serving apartments | E34: Clubhouses
C35: Stairwells for residential floors | E35: Fitness centers for residents
C36: Residential storage | E36: Pool areas
C37: Residential Mechanical rooms | E37: Bike rooms
C38: Mail / Package rooms | E38: Laundry rooms
C39: Trash rooms serving apartments
B41: Commercial/Other Square Footage | J41: Does NOT count toward 50% requirement.
B42: SF of all uses that do not fall into another category.
B44: Residential & Commercial Shared Square Footage | J44: Pro rata share counts toward 50% requirement.
C45: SF used by BOTH residential and commercial occupants:
C46: Shared hallways | E46: Shared Mechanical rooms
C47: Shared elevators | E47: Shared Mail / Package rooms
C48: Shared lobbies | E48: Shared Trash rooms serving apartments
C49: Shared Stairwells | E49: Other Shared areas
B50: A pro rata portion of Shared SF will be counted toward the 50% requirement based on the percentage of affordable housing SF. So, if affordable residential space (including amenities and commons areas) total 60%, then 60% of the square footage shared by commercial and residential uses will count toward the 50% affordable housing requirement.

Sheet 3)Utility Allowance
B1: =Instructions!B2 -> TC-HC Form
B2: UTILITY ALLOWANCE CALCULATION
B3: =County -> 0 | C3: Applicable Regional Utility Chart: | I3: ='1)Project Info'!D10 -> 0
B4: ='1)Project Info'!F9 -> 0 | I4: ='1)Project Info'!C11 -> 0
B5: Utility | C5: Utility Fuel Source | E5: Utilities Paid By | F5: Allowance for Utilities Paid by Tenant | L5: INSTRUCTIONS:
F6: 0 BR | G6: 1 BR | H6: 2 BR | I6: 3 BR | J6: 4 BR | K6: 5 BR | L6: 1. In Column D, select the fuel source for each utility.
B7: Heat & Air | L7: 2. In Column E, select who is responsible for paying for each utility.
B8: Air Conditioning | C8: Electric | L8: 3. Determine which of the chart below applies to your project based on county
B9: Cooking | L9: 4. In Columns F-K, enter the utility allowances for each utility/fuel as list in the applicable chart below.
B10: Other Electric | C10: Electric | L10: 5. The chart will automatically add up the total utility allowance & enter it on a chart on the 1) Project Info tab.
B11: Water Heating | L11: 6. These utility charts are published annually by KY Housing Corporation.
B12: Water | C12: NA
B13: Sewer | C13: NA
B14: Trash Collection | C14: NA
B15: TOTAL Utility Allowance: | F15: =SUM(F7:F14) -> 0 | G15: =SUM(G7:G14) -> 0 | H15: =SUM(H7:H14) -> 0 | I15: =SUM(I7:I14) -> 0 | J15: =SUM(J7:J14) -> 0 | K15: =SUM(K7:K14) -> 0
B16: Utility Allowance Charts
B18: CENTRAL REGION MULTIFAMILY UTILITY CHART | J18: EAST REGION MULTIFAMILY UTILITY CHART | U18: WEST REGION MULTIFAMILY UTILITY CHART
B19: January 2026 | J19: January 2026 | U19: January 2026
B20: CENTRAL COUNTIES: Adair, Anderson, Boone, Boyle, Bullitt, Campbell, Carroll, Casey, Clinton, Cumberland, Fayette, Franklin Gallatin, Garrard, Grant, Green, Harrison, Henry, Jefferson, Jessamine, Kenton, Larue, Lincoln, Marion, McCreary, Meade, Madison, Mercer, Nelson, Oldham, Owen, Pendelton, Pulaski, Russell, Scott, Shelby, Spencer, Taylor, Trimble, Washington, Wayne, Woodford. | J20: EAST COUNTIES: Bath, Bell, Boyd, Bracken, Breathitt, Carter, Clark, Clay, Elliott, Estill, Fleming, Floyd, Greenup, Harlan, Jackson, Johnson, Knott, Knox, Laurel, Lawrence, Lee, Leslie, Letcher, Lewis, Magoffin, Martin, Mason, Menifee, Montgomery, Morgan, Nicholas, Owsley, Perry, Pike, Powell, Robertson, Rockcastle, Rowan, Whitley, Wolfe. | U20: WEST COUNTIES: Allen, Ballard, Barren, Breckinridge, Butler, Caldwell, Calloway, Carlisle, Christian, Crittenden, Daviess, Edmonson, Fulton, Graves, Grayson, Hancock, Hardin, Hart, Henderson, Hickman, Hopkins, Livingston, Logan, Lyon, Marshall, McCracken, McLean, Metcalfe, Monroe, Muhlenberg, Ohio, Simpson, Todd, Trigg, Union, Warren, Webster
B21: Utility or Service | C21: 0-BR | D21: 1-BR | E21: 2-BR | F21: 3-BR | G21: 4-BR | H21: 5-BR | J21: Utility or Service | N21: 0-BR | O21: 1-BR | P21: 2-BR | Q21: 3-BR | R21: 4-BR | S21: 5-BR | U21: Utility or Service | V21: 0-BR | W21: 1-BR | X21: 2-BR | Y21: 3-BR | Z21: 4-BR | AA21: 5-BR
B22: Heat & Air – Natural Gas | C22: 34 | D22: 41 | E22: 49 | F22: 57 | G22: 69 | H22: 77 | J22: Heat & Air – Natural Gas | N22: 34 | O22: 42 | P22: 50 | Q22: 58 | R22: 71 | S22: 79 | U22: Heat & Air – Natural Gas | V22: 29 | W22: 35 | X22: 42 | Y22: 48 | Z22: 58 | AA22: 64
B23: Heat & Air – Bottle Gas | C23: 45 | D23: 63 | E23: 80 | F23: 98 | G23: 125 | H23: 143 | J23: Heat & Air – Bottle Gas | N23: 45 | O23: 63 | P23: 80 | Q23: 98 | R23: 125 | S23: 145 | U23: Heat & Air – Bottle Gas | V23: 45 | W23: 63 | X23: 80 | Y23: 98 | Z23: 125 | AA23: 143
B24: Heat & Air – Electric | C24: 35 | D24: 44 | E24: 54 | F24: 63 | G24: 77 | H24: 86 | J24: Heat & Air – Electric | N24: 40 | O24: 50 | P24: 60 | Q24: 70 | R24: 85 | S24: 95 | U24: Heat & Air – Electric | V24: 36 | W24: 46 | X24: 55 | Y24: 64 | Z24: 78 | AA24: 87
B25: Heat & Air – Oil | C25: 38 | D25: 53 | E25: 69 | F25: 85 | G25: 107 | H25: 122 | J25: Heat & Air – Oil | N25: 38 | O25: 53 | P25: 69 | Q25: 85 | R25: 107 | S25: 122 | U25: Heat & Air – Oil | V25: 38 | W25: 53 | X25: 69 | Y25: 85 | Z25: 107 | AA25: 122
B26: Air Conditioning | C26: 6 | D26: 8 | E26: 10 | F26: 12 | G26: 16 | H26: 18 | J26: Air Conditioning | N26: 7 | O26: 9 | P26: 12 | Q26: 15 | R26: 19 | S26: 21 | U26: Air Conditioning | V26: 6 | W26: 9 | X26: 11 | Y26: 14 | Z26: 17 | AA26: 20
B27: Cooking – Natural Gas | C27: 5 | D27: 7 | E27: 9 | F27: 11 | G27: 14 | H27: 16 | J27: Cooking – Natural Gas | N27: 5 | O27: 7 | P27: 9 | Q27: 11 | R27: 14 | S27: 16 | U27: Cooking – Natural Gas | V27: 4 | W27: 6 | X27: 8 | Y27: 9 | Z27: 12 | AA27: 13
B28: Cooking – Bottle Gas | C28: 11 | D28: 16 | E28: 20 | F28: 25 | G28: 31 | H28: 36 | J28: Cooking – Bottle Gas | N28: 11 | O28: 16 | P28: 20 | Q28: 25 | R28: 31 | S28: 36 | U28: Cooking – Bottle Gas | V28: 11 | W28: 16 | X28: 20 | Y28: 25 | Z28: 31 | AA28: 36
B29: Cooking – Electric | C29: 6 | D29: 8 | E29: 10 | F29: 12 | G29: 16 | H29: 18 | J29: Cooking – Electric | N29: 6 | O29: 8 | P29: 11 | Q29: 13 | R29: 17 | S29: 19 | U29: Cooking – Electric | V29: 6 | W29: 8 | X29: 10 | Y29: 13 | Z29: 16 | AA29: 18
B30: Other Electric | C30: 17 | D30: 23 | E30: 30 | F30: 36 | G30: 46 | H30: 53 | J30: Other Electric | N30: 18 | O30: 25 | P30: 32 | Q30: 39 | R30: 50 | S30: 57 | U30: Other Electric | V30: 17 | W30: 24 | X30: 30 | Y30: 37 | Z30: 47 | AA30: 54
B31: Water Heating – Natural Gas | C31: 13 | D31: 18 | E31: 24 | F31: 29 | G31: 37 | H31: 42 | J31: Water Heating – Natural Gas | N31: 13 | O31: 18 | P31: 24 | Q31: 29 | R31: 37 | S31: 42 | U31: Water Heating – Natural Gas | V31: 11 | W31: 15 | X31: 19 | Y31: 23 | Z31: 30 | AA31: 34
B32: Water Heating – Bottle Gas | C32: 29 | D32: 41 | E32: 53 | F32: 64 | G32: 82 | H32: 94 | J32: Water Heating – Bottle Gas | N32: 29 | O32: 41 | P32: 53 | Q32: 64 | R32: 82 | S32: 94 | U32: Water Heating – Bottle Gas | V32: 29 | W32: 41 | X32: 53 | Y32: 64 | Z32: 82 | AA32: 94
B33: Water Heating – Electric | C33: 17 | D33: 24 | E33: 31 | F33: 38 | G33: 49 | H33: 55 | J33: Water Heating – Electric | N33: 19 | O33: 26 | P33: 33 | Q33: 41 | R33: 52 | S33: 60 | U33: Water Heating – Electric | V33: 18 | W33: 25 | X33: 32 | Y33: 39 | Z33: 49 | AA33: 56
... B37: Trash Collection | C37: 24 | D37: 24 | E37: 24 | F37: 24 | G37: 24 | H37: 24 | J37: Trash Collection | N37: 29 | O37: 29 | P37: 29 | Q37: 29 | R37: 29 | S37: 29 | U37: Trash Collection | V37: 20 | W37: 20 | X37: 20 | Y37: 20 | Z37: 20 | AA37: 20
B39: Source: Kentucky Housing Corporation's Housing Choice Voucher Annual Utility Charts
B40: https://www.kyhousing.org/Partners/Developers/Multifamily/Pages/Underwriting-Resources.aspx

Sheet Rent Limits
B1: RENT LIMITS - KY Heritage Council TC-HC Form
B2: (Effective June 1, 2026) | C2: FOR REFERNCE ONLY - Supports Other Tabs/Sheets. | I2: Project Co: | K2: =County -> 0
B4: County | C4: 0 bedroom | D4: 1 bedroom | E4: 2 bedroom | F4: 3 bedroom | G4: 4 bedroom | H4: 5 bedroom | I4: 6 bedroom | K4: County
B5: Adair County | C5: 799 | D5: 857 | E5: 1031 | F5: 1182 | G5: 1299 | H5: 1415 | I5: 1530 | K5: Adair County
B6: Allen County | C6: 899 | D6: 964 | E6: 1159 | F6: 1331 | G6: 1465 | H6: 1598 | I6: 1732 | K6: Allen County
B7: Anderson County | C7: 1076 | D7: 1154 | E7: 1387 | F7: 1594 | G7: 1759 | H7: 1922 | I7: 2085 | K7: Anderson County
B8: Ballard County | C8: 986 | D8: 1058 | E8: 1272 | F8: 1461 | G8: 1610 | H8: 1758 | I8: 1907 | K8: Ballard County
B9: Barren County | C9: 799 | D9: 857 | E9: 1031 | F9: 1182 | G9: 1299 | H9: 1415 | I9: 1530 | K9: Barren County
B10: Bath County | C10: 810 | D10: 869 | E10: 1046 | F10: 1199 | G10: 1318 | H10: 1436 | I10: 1553 | K10: Bath County
B11: Bell County | C11: 799 | D11: 857 | E11: 1031 | F11: 1182 | G11: 1299 | H11: 1415 | I11: 1530 | K11: Bell County
B12: Boone County | C12: 1253 | D12: 1343 | E12: 1613 | F12: 1855 | G12: 2050 | H12: 2243 | I12: 2437 | K12: Boone County
B13: Bourbon County | C13: 1145 | D13: 1228 | E13: 1476 | F13: 1697 | G13: 1873 | H13: 2048 | I13: 2223 | K13: Bourbon County
B14: Boyd County | C14: 929 | D14: 996 | E14: 1197 | F14: 1374 | G14: 1514 | H14: 1651 | I14: 1789 | K14: Boyd County
B15: Boyle County | C15: 899 | D15: 964 | E15: 1159 | F15: 1331 | G15: 1465 | H15: 1598 | I15: 1732 | K15: Boyle County
B16: Bracken County | C16: 1253 | D16: 1343 | E16: 1613 | F16: 1855 | G16: 2050 | H16: 2243 | I16: 2437 | K16: Bracken County
... B124: Woodford County | C124: 1145 | D124: 1228 | E124: 1476 | F124: 1697 | G124: 1873 | H124: 2048 | I124: 2223 | K124: Woodford County
B125: County | C125: 0 bedroom | D125: 1 bedroom | E125: 2 bedroom | F125: 3 bedroom | G125: 4 bedroom | H125: 5 bedroom | I125: 6 bedroom | K125: County
B126: Source: HUD HOME Investment Program 65% Rent Limits
B127: https://www.hudexchange.info/programs/home/home-rent-limits/

Sheet Income Limits
B1: INCOME LIMITS - KY Heritage Council TC-HC Form
B2: (Effective June 1, 2026) | D2: FOR REFERNCE ONLY - Supports Other Tabs/Sheets. | I2: Project Co: | M2: =County -> 0
B3: County | D3: 80% AMI | E3: 80% AMI | F3: 80% AMI | G3: 80% AMI | H3: 80% AMI | I3: 80% AMI | J3: 80% AMI | K3: 80% AMI | M3: County
D4: 1 person | E4: 2 persons | F4: 3 persons | G4: 4 persons | H4: 5 persons | I4: 6 persons | J4: 7 persons | K4: 8 persons
B5: Adair County | D5: 40250 | E5: 46000 | F5: 51750 | G5: 57500 | H5: 62100 | I5: 66700 | J5: 71300 | K5: 75900 | M5: Adair County
B6: Allen County | D6: 45300 | E6: 51750 | F6: 58200 | G6: 64650 | H6: 69850 | I6: 75000 | J6: 80200 | K6: 85350 | M6: Allen County
B7: Anderson County | D7: 53950 | E7: 61650 | F7: 69350 | G7: 77050 | H7: 83250 | I7: 89400 | J7: 95550 | K7: 101750 | M7: Anderson County
B8: Ballard County | D8: 49550 | E8: 56600 | F8: 63700 | G8: 70750 | H8: 76450 | I8: 82100 | J8: 87750 | K8: 93400 | M8: Ballard County
B9: Barren County | D9: 40250 | E9: 46000 | F9: 51750 | G9: 57500 | H9: 62100 | I9: 66700 | J9: 71300 | K9: 75900 | M9: Barren County
B10: Bath County | D10: 40850 | E10: 46650 | F10: 52500 | G10: 58300 | H10: 63000 | I10: 67650 | J10: 72300 | K10: 77000 | M10: Bath County
B11: Bell County | D11: 40250 | E11: 46000 | F11: 51750 | G11: 57500 | H11: 62100 | I11: 66700 | J11: 71300 | K11: 75900 | M11: Bell County
B12: Boone County | D12: 61550 | E12: 70350 | F12: 79150 | G12: 87900 | H12: 94950 | I12: 102000 | J12: 109000 | K12: 116050 | M12: Boone County
B13: Bourbon County | D13: 57200 | E13: 65400 | F13: 73550 | G13: 81700 | H13: 88250 | I13: 94800 | J13: 101350 | K13: 107850 | M13: Bourbon County
B14: Boyd County | D14: 46700 | E14: 53350 | F14: 60000 | G14: 66650 | H14: 72000 | I14: 77350 | J14: 82650 | K14: 88000 | M14: Boyd County
B15: Boyle County | D15: 45200 | E15: 51650 | F15: 58100 | G15: 64550 | H15: 69750 | I15: 74900 | J15: 80050 | K15: 85250 | M15: Boyle County
B16: Bracken County | D16: 61550 | E16: 70350 | F16: 79150 | G16: 87900 | H16: 94950 | I16: 102000 | J16: 109000 | K16: 116050 | M16: Bracken County
... B124: Woodford County | D124: 57200 | E124: 65400 | F124: 73550 | G124: 81700 | H124: 88250 | I124: 94800 | J124: 101350 | K124: 107850 | M124: Woodford County
B125: County | D125: 80% AMI | E125: 80% AMI | F125: 80% AMI | G125: 80% AMI | H125: 80% AMI | I125: 80% AMI | J125: 80% AMI | K125: 80% AMI | M125: County
D126: 1 person | E126: 2 persons | F126: 3 persons | G126: 4 persons | H126: 5 persons | I126: 6 persons | J126: 7 persons | K126: 8 persons
B127: Source: HUD HOME Investment Program 80% AMI Income Limits.
B128: https://www.hudexchange.info/programs/home/home-income-limits/
